<?xml version="1.0" encoding="UTF-8" standalone="no"?>
<metadata xml:lang="es">
<Esri>
<CreaDate>20250115</CreaDate>
<CreaTime>10193800</CreaTime>
<ArcGISFormat>1.0</ArcGISFormat>
<SyncOnce>FALSE</SyncOnce>
<DataProperties>
<itemProps>
<itemLocation>
<linkage Sync="TRUE">Server=vraem; Service=sde:sqlserver:vraem; Database=IMAGENES; User=sa; Version=dbo.DEFAULT</linkage>
<protocol Sync="TRUE">ArcSDE Connection</protocol>
</itemLocation>
<itemName Sync="TRUE">IMAGENES.DBO.PUNO_IMAGEN</itemName>
<imsContentType Sync="TRUE">002</imsContentType>
<nativeExtBox>
<westBL Sync="TRUE">-70.033743</westBL>
<eastBL Sync="TRUE">-70.027036</eastBL>
<southBL Sync="TRUE">-15.846277</southBL>
<northBL Sync="TRUE">-15.839332</northBL>
<exTypeCode Sync="TRUE">1</exTypeCode>
</nativeExtBox>
</itemProps>
<copyHistory>
<copy date="20250115" dest="\\10.65.201.25\compartido_idep$\5k\PPUNO1.tif" source="H:\PUBLICACIONES_2017\PUNO\PPUNO1.tif" time="10193800"/>
</copyHistory>
<coordRef>
<type Sync="TRUE">Geographic</type>
<geogcsn Sync="TRUE">GCS_WGS_1984</geogcsn>
<csUnits Sync="TRUE">Angular Unit: Degree (0.017453)</csUnits>
<peXml Sync="TRUE">&lt;GeographicCoordinateSystem xsi:type='typens:GeographicCoordinateSystem' xmlns:xsi='http://www.w3.org/2001/XMLSchema-instance' xmlns:xs='http://www.w3.org/2001/XMLSchema' xmlns:typens='http://www.esri.com/schemas/ArcGIS/3.3.0'&gt;&lt;WKT&gt;GEOGCS[&amp;quot;GCS_WGS_1984&amp;quot;,DATUM[&amp;quot;D_WGS_1984&amp;quot;,SPHEROID[&amp;quot;WGS_1984&amp;quot;,6378137.0,298.257223563]],PRIMEM[&amp;quot;Greenwich&amp;quot;,0.0],UNIT[&amp;quot;Degree&amp;quot;,0.0174532925199433],AUTHORITY[&amp;quot;EPSG&amp;quot;,4326]]&lt;/WKT&gt;&lt;XOrigin&gt;-400&lt;/XOrigin&gt;&lt;YOrigin&gt;-400&lt;/YOrigin&gt;&lt;XYScale&gt;11258999068426.238&lt;/XYScale&gt;&lt;ZOrigin&gt;-100000&lt;/ZOrigin&gt;&lt;ZScale&gt;10000&lt;/ZScale&gt;&lt;MOrigin&gt;-100000&lt;/MOrigin&gt;&lt;MScale&gt;10000&lt;/MScale&gt;&lt;XYTolerance&gt;8.983152841195215e-09&lt;/XYTolerance&gt;&lt;ZTolerance&gt;0.00020000000000000001&lt;/ZTolerance&gt;&lt;MTolerance&gt;0.00020000000000000001&lt;/MTolerance&gt;&lt;HighPrecision&gt;true&lt;/HighPrecision&gt;&lt;LeftLongitude&gt;-180&lt;/LeftLongitude&gt;&lt;WKID&gt;4326&lt;/WKID&gt;&lt;LatestWKID&gt;4326&lt;/LatestWKID&gt;&lt;/GeographicCoordinateSystem&gt;</peXml>
</coordRef>
<lineage>
<Process Date="20250115" Time="110015" ToolSource="c:\program files (x86)\arcgis\desktop10.6\ArcToolbox\Toolboxes\Data Management Tools.tbx\CopyRaster">CopyRaster K:\5k\PPUNO1.tif "K:\5k\New File Geodatabase.gdb\PPUNO1" # # 65536 NONE NONE # NONE NONE "Esri Grid" NONE</Process>
<Process Date="20250115" Time="155255" ToolSource="c:\program files\arcgis\pro\Resources\ArcToolbox\toolboxes\Data Management Tools.tbx\CopyRaster">CopyRaster "C:\Users\aquispee\Pictures\Puno\New File Geodatabase.gdb\PPUNO1" C:\Users\aquispee\Documents\ArcGIS\Projects\MyProject15\SQLServer-vraem-IMAGENES(sa).sde\IMAGENES.DBO.PUNO_IMAGEN # # # NONE NONE # NONE NONE "Esri Grid format" NONE CURRENT_SLICE NO_TRANSPOSE</Process>
</lineage>
</DataProperties>
<SyncDate>20250115</SyncDate>
<SyncTime>15525500</SyncTime>
<ModDate>20250115</ModDate>
<ModTime>15525500</ModTime>
</Esri>
<dataIdInfo>
<envirDesc Sync="TRUE">Microsoft Windows 10 Version 10.0 (Build 22000) ; Esri ArcGIS 13.3.0.52636</envirDesc>
<dataLang>
<languageCode Sync="TRUE" value="spa"/>
<countryCode Sync="TRUE" value="MEX"/>
</dataLang>
<idCitation>
<resTitle Sync="TRUE">PUNO_IMAGEN</resTitle>
<presForm>
<PresFormCd Sync="TRUE" value="011"/>
</presForm>
</idCitation>
<spatRpType>
<SpatRepTypCd Sync="TRUE" value="002"/>
</spatRpType>
<dataExt>
<geoEle>
<GeoBndBox esriExtentType="search">
<exTypeCode Sync="TRUE">1</exTypeCode>
<westBL Sync="TRUE">-70.033743</westBL>
<eastBL Sync="TRUE">-70.027036</eastBL>
<northBL Sync="TRUE">-15.839332</northBL>
<southBL Sync="TRUE">-15.846277</southBL>
</GeoBndBox>
</geoEle>
</dataExt>
<idAbs/>
<searchKeys>
<keyword>Puno</keyword>
</searchKeys>
<idPurp>Puno</idPurp>
<idCredit/>
<resConst>
<Consts>
<useLimit/>
</Consts>
</resConst>
</dataIdInfo>
<mdLang>
<languageCode Sync="TRUE" value="spa"/>
<countryCode Sync="TRUE" value="MEX"/>
</mdLang>
<distInfo>
<distFormat>
<formatName Sync="TRUE">Enterprise Geodatabase Raster Dataset</formatName>
</distFormat>
</distInfo>
<mdHrLv>
<ScopeCd Sync="TRUE" value="005"/>
</mdHrLv>
<mdHrLvName Sync="TRUE">dataset</mdHrLvName>
<refSysInfo>
<RefSystem>
<refSysID>
<identCode Sync="TRUE" code="4326"/>
<idCodeSpace Sync="TRUE">EPSG</idCodeSpace>
<idVersion Sync="TRUE">6.2(3.0.1)</idVersion>
</refSysID>
</RefSystem>
</refSysInfo>
<spdoinfo>
<rastinfo>
<rasttype Sync="TRUE">Pixel</rasttype>
<rowcount Sync="TRUE">7639</rowcount>
<colcount Sync="TRUE">7376</colcount>
<rastxsz Sync="TRUE">0.000001</rastxsz>
<rastysz Sync="TRUE">0.000001</rastysz>
<rastbpp Sync="TRUE">32</rastbpp>
<vrtcount Sync="TRUE">1</vrtcount>
<rastorig Sync="TRUE">Upper Left</rastorig>
<rastcmap Sync="TRUE">FALSE</rastcmap>
<rastcomp Sync="TRUE">LZ77</rastcomp>
<rastband Sync="TRUE">3</rastband>
<rastdtyp Sync="TRUE">pixel codes</rastdtyp>
<rastifor Sync="TRUE">SDR</rastifor>
<rastplyr Sync="TRUE">TRUE</rastplyr>
</rastinfo>
</spdoinfo>
<spref>
<horizsys>
<planar>
<planci>
<plance Sync="TRUE">row and column</plance>
<coordrep>
<absres Sync="TRUE">0.000001</absres>
<ordres Sync="TRUE">0.000001</ordres>
</coordrep>
</planci>
</planar>
</horizsys>
</spref>
<mdDateSt Sync="TRUE">20250115</mdDateSt>
</metadata>
