View In:
ArcGIS JavaScript
ArcGIS Online Map Viewer
ArcGIS Earth
Service Description: IMAGENES/PUNO_IMAGEN
Name: IMAGENES/PUNO_IMAGEN
Description:
Single Fused Map Cache: false
Extent:
XMin: -70.03374257399997
YMin: -15.846277421219144
XMax: -70.02703612417764
YMax: -15.839331844999947
Spatial Reference: 4326
(4326)
Initial Extent:
XMin: -70.03374257399997
YMin: -15.846277421219144
XMax: -70.02703612417764
YMax: -15.839331844999947
Spatial Reference: 4326
(4326)
Full Extent:
XMin: -70.03374257399997
YMin: -15.846277421219144
XMax: -70.02703612417764
YMax: -15.839331844999947
Spatial Reference: 4326
(4326)
Pixel Size X: 9.092258435916087E-7
Pixel Size Y: 9.092258435916717E-7
Band Count: 3
Pixel Type: U32
RasterFunction Infos: {"rasterFunctionInfos": [{
"name": "None",
"description": "",
"help": ""
}]}
Mensuration Capabilities: Basic
Inspection Capabilities:
Has Histograms: true
Has Colormap: false
Has Multi Dimensions : false
Rendering Rule:
Min Scale: 0
Max Scale: 0
Copyright Text:
Service Data Type: esriImageServiceDataTypeGeneric
Min Values: 1, 1, 1
Max Values: 255, 255, 255
Mean Values: 12.5241502670166, 12.645002684026636, 9.43640956541184
Standard Deviation Values: 8.65626017940378, 9.376141811163645, 7.7853342852875
Object ID Field:
Fields:
None
Default Mosaic Method: Center
Allowed Mosaic Methods:
SortField:
SortValue: null
Mosaic Operator: First
Default Compression Quality: 75
Default Resampling Method: Bilinear
Max Record Count: null
Max Image Height: 4100
Max Image Width: 15000
Max Download Image Count: null
Max Mosaic Image Count: null
Allow Raster Function: true
Allow Copy: true
Allow Analysis: true
Allow Compute TiePoints: false
Supports Statistics: false
Supports Advanced Queries: false
Use StandardizedQueries: true
Raster Type Infos:
Name: Raster Dataset
Description: Compatible con todos los datasets de rĂ¡steres de ArcGIS
Help:
Has Raster Attribute Table: false
Edit Fields Info: null
Ownership Based AccessControl For Rasters: null
Child Resources:
Info
Histograms
Statistics
Key Properties
Legend
Raster Function Infos
Supported Operations:
Export Image
Identify
Measure
Compute Histograms
Compute Statistics Histograms
Get Samples
Compute Class Statistics
Query Boundary
Compute Pixel Location
Compute Angles
Validate
Project